<PAMDataset>
  <SRS>PROJCS[&quot;unnamed&quot;,GEOGCS[&quot;unnamed ellipse&quot;,DATUM[&quot;unknown&quot;,SPHEROID[&quot;unnamed&quot;,2439400,0]],PRIMEM[&quot;Greenwich&quot;,0],UNIT[&quot;degree&quot;,0.0174532925199433]],PROJECTION[&quot;Equirectangular&quot;],PARAMETER[&quot;latitude_of_origin&quot;,0],PARAMETER[&quot;central_meridian&quot;,157.5],PARAMETER[&quot;standard_parallel_1&quot;,-22.5],PARAMETER[&quot;false_easting&quot;,0],PARAMETER[&quot;false_northing&quot;,0]]</SRS>
  <GeoTransform> -8.8503052741611702e+05,  1.6631078817636592e+02,  0.0000000000000000e+00, -9.5795013989586767e+05,  0.0000000000000000e+00, -1.6631078817636592e+02</GeoTransform>
  <PAMRasterBand band="1">
    <Description>Reflectance</Description>
    <NoDataValue>-3.40282265508890E+38</NoDataValue>
  </PAMRasterBand>
</PAMDataset>
