<PAMDataset>
  <SRS>PROJCS[&quot;unnamed&quot;,GEOGCS[&quot;unnamed ellipse&quot;,DATUM[&quot;unknown&quot;,SPHEROID[&quot;unnamed&quot;,2439400,0]],PRIMEM[&quot;Greenwich&quot;,0],UNIT[&quot;degree&quot;,0.0174532925199433]],PROJECTION[&quot;Polar_Stereographic&quot;],PARAMETER[&quot;latitude_of_origin&quot;,90],PARAMETER[&quot;central_meridian&quot;,0],PARAMETER[&quot;scale_factor&quot;,1],PARAMETER[&quot;false_easting&quot;,0],PARAMETER[&quot;false_northing&quot;,0]]</SRS>
  <GeoTransform> -1.3072705200329616e+06,  3.3259649409310816e+02,  0.0000000000000000e+00,  1.3072705200329616e+06,  0.0000000000000000e+00, -3.3259649409310816e+02</GeoTransform>
  <PAMRasterBand band="1">
    <Description>WAC filter 9 1000 BP 15</Description>
    <NoDataValue>-3.40282265508890E+38</NoDataValue>
  </PAMRasterBand>
</PAMDataset>
