<PAMDataset>
  <SRS>PROJCS[&quot;unnamed&quot;,GEOGCS[&quot;unnamed ellipse&quot;,DATUM[&quot;unknown&quot;,SPHEROID[&quot;unnamed&quot;,2439400,0]],PRIMEM[&quot;Greenwich&quot;,0],UNIT[&quot;degree&quot;,0.0174532925199433]],PROJECTION[&quot;Orthographic&quot;],PARAMETER[&quot;latitude_of_origin&quot;,19.9170742],PARAMETER[&quot;central_meridian&quot;,149.9496002],PARAMETER[&quot;false_easting&quot;,0],PARAMETER[&quot;false_northing&quot;,0],UNIT[&quot;Meter&quot;,1]]</SRS>
  <GeoTransform> -1.0522860000000001e+04,  1.9000000000000000e+01,  0.0000000000000000e+00,  1.0339910000000000e+04,  0.0000000000000000e+00, -1.9000000000000000e+01</GeoTransform>
  <PAMRasterBand band="1">
    <NoDataValue>-INF</NoDataValue>
  </PAMRasterBand>
</PAMDataset>
