<PAMDataset>
  <SRS>PROJCS[&quot;unnamed&quot;,GEOGCS[&quot;unnamed ellipse&quot;,DATUM[&quot;unknown&quot;,SPHEROID[&quot;unnamed&quot;,2439400,0]],PRIMEM[&quot;Greenwich&quot;,0],UNIT[&quot;degree&quot;,0.0174532925199433]],PROJECTION[&quot;Orthographic&quot;],PARAMETER[&quot;latitude_of_origin&quot;,2.3648498],PARAMETER[&quot;central_meridian&quot;,87.5826492],PARAMETER[&quot;false_easting&quot;,0],PARAMETER[&quot;false_northing&quot;,0],UNIT[&quot;Meter&quot;,1]]</SRS>
  <GeoTransform> -4.6831190000000002e+04,  2.8000000000000000e+01,  0.0000000000000000e+00,  1.5970180000000000e+04,  0.0000000000000000e+00, -2.8000000000000000e+01</GeoTransform>
  <PAMRasterBand band="1">
    <NoDataValue>-INF</NoDataValue>
  </PAMRasterBand>
</PAMDataset>
