<PAMDataset>
  <SRS>PROJCS[&quot;unnamed&quot;,GEOGCS[&quot;unnamed ellipse&quot;,DATUM[&quot;unknown&quot;,SPHEROID[&quot;unnamed&quot;,2439400,0]],PRIMEM[&quot;Greenwich&quot;,0],UNIT[&quot;degree&quot;,0.0174532925199433]],PROJECTION[&quot;Orthographic&quot;],PARAMETER[&quot;latitude_of_origin&quot;,27.332],PARAMETER[&quot;central_meridian&quot;,119.073],PARAMETER[&quot;false_easting&quot;,0],PARAMETER[&quot;false_northing&quot;,0]]</SRS>
  <GeoTransform> -2.3335018295000002e+05,  3.4076504999999997e+02,  0.0000000000000000e+00,  2.3574461047000001e+05,  0.0000000000000000e+00, -3.4076504999999997e+02</GeoTransform>
  <PAMRasterBand band="1">
    <Description>WAC, filter 9, 1000 BP 15</Description>
    <NoDataValue le_hex_equiv="00000060FFFFEFC7">-3.40282265508890E+38</NoDataValue>
  </PAMRasterBand>
</PAMDataset>
