<PAMDataset>
  <SRS>PROJCS[&quot;unnamed&quot;,GEOGCS[&quot;unnamed ellipse&quot;,DATUM[&quot;unknown&quot;,SPHEROID[&quot;unnamed&quot;,2439400,0]],PRIMEM[&quot;Greenwich&quot;,0],UNIT[&quot;degree&quot;,0.0174532925199433]],PROJECTION[&quot;Orthographic&quot;],PARAMETER[&quot;latitude_of_origin&quot;,6.728],PARAMETER[&quot;central_meridian&quot;,165.607],PARAMETER[&quot;false_easting&quot;,0],PARAMETER[&quot;false_northing&quot;,0]]</SRS>
  <GeoTransform> -2.9495451113000000e+05,  5.1373515999999995e+02,  0.0000000000000000e+00,  2.3712364716999998e+05,  0.0000000000000000e+00, -5.1373515999999995e+02</GeoTransform>
  <PAMRasterBand band="1">
    <Description>WAC, filter 4, 560 BP 5</Description>
    <NoDataValue le_hex_equiv="00000060FFFFEFC7">-3.40282265508890E+38</NoDataValue>
  </PAMRasterBand>
</PAMDataset>
